BEGIN:VCALENDAR
VERSION:2.0
PRODID:-//Tähtvere Tennisekeskus - ECPv6.15.19//NONSGML v1.0//EN
CALSCALE:GREGORIAN
METHOD:PUBLISH
X-WR-CALNAME:Tähtvere Tennisekeskus
X-ORIGINAL-URL:https://tartutennis.ee
X-WR-CALDESC:Events for Tähtvere Tennisekeskus
REFRESH-INTERVAL;VALUE=DURATION:PT1H
X-Robots-Tag:noindex
X-PUBLISHED-TTL:PT1H
BEGIN:VTIMEZONE
TZID:Europe/Helsinki
BEGIN:DAYLIGHT
TZOFFSETFROM:+0200
TZOFFSETTO:+0300
TZNAME:EEST
DTSTART:20250330T010000
END:DAYLIGHT
BEGIN:STANDARD
TZOFFSETFROM:+0300
TZOFFSETTO:+0200
TZNAME:EET
DTSTART:20251026T010000
END:STANDARD
BEGIN:DAYLIGHT
TZOFFSETFROM:+0200
TZOFFSETTO:+0300
TZNAME:EEST
DTSTART:20260329T010000
END:DAYLIGHT
BEGIN:STANDARD
TZOFFSETFROM:+0300
TZOFFSETTO:+0200
TZNAME:EET
DTSTART:20261025T010000
END:STANDARD
BEGIN:DAYLIGHT
TZOFFSETFROM:+0200
TZOFFSETTO:+0300
TZNAME:EEST
DTSTART:20270328T010000
END:DAYLIGHT
BEGIN:STANDARD
TZOFFSETFROM:+0300
TZOFFSETTO:+0200
TZNAME:EET
DTSTART:20271031T010000
END:STANDARD
END:VTIMEZONE
BEGIN:VEVENT
DTSTART;TZID=Europe/Helsinki:20260425T180000
DTEND;TZID=Europe/Helsinki:20260425T233000
DTSTAMP:20260421T234509
CREATED:20260115T130509Z
LAST-MODIFIED:20260407T070218Z
UID:10001208-1777140000-1777159800@tartutennis.ee
SUMMARY:Tähtvere ÖÖKAS Kevad powered by Slept
DESCRIPTION:Tähtvere ÖÖKAS powered by Slept on Tartu kõige särtsakam ja meeleolukam paarismänguturniir\, mis toob mängurõõmu neljal korral aastas! Turniiril ei loe klubiline kuuluvus ega mängutase – kõik saavad osa\, sest igaühele leidub sobiv tugevusgrupp.\n\nFormaat: ajatennis. Kõigile garanteeritud 3 × 40 min mänguaega (2 alagrupimängu + 1 kohamäng)\nOsavõtutasu: 45 €\nAuhinnad: turniiri peatoetaja Slept hoolitseb selle eest\, et igal etapil oleks võitjaid ootamas väärt kingitused. \nTugevusgrupid: \n\nPro Liiga – M2+M2 / M2+N1 / N1+N1 / M1+N2 / M1+M3\nMeistrite Liiga – M2+N2 / M2+N3 / M3+M3 / N1+N2\nTegijate Liiga – M4+N3 / M3+N3 / N2+N3\nTulijate Liiga – M4+M4 / M4+N4 / N3+N4\n\nOlgu sul eesmärgiks väljakul maksimum anda või lihtsalt nautida Tähtvere ÖÖKAS erilist atmosfääri – see turniir on sinu jaoks!
URL:https://tartutennis.ee/sundmus/ookas-kevad-2/
LOCATION:Tähtvere Tennisekeskus\, Laulupeo puiestee 19\, Tartu
CATEGORIES:Tähtvere Öökas
ATTACH;FMTTYPE=image/jpeg:https://tartutennis.ee/wp-content/uploads/2025/09/Tennisekeskus-1.jpg
END:VEVENT
BEGIN:VEVENT
DTSTART;TZID=Europe/Helsinki:20260523T100000
DTEND;TZID=Europe/Helsinki:20260523T160000
DTSTAMP:20260421T234509
CREATED:20260115T125429Z
LAST-MODIFIED:20260115T125429Z
UID:10001205-1779530400-1779552000@tartutennis.ee
SUMMARY:LASTETENNIS 25% ja 50%
DESCRIPTION:Rohkem infot: www.etl.tournamentsoftware.com
URL:https://tartutennis.ee/sundmus/lastetennis-25-ja-50-2/
LOCATION:Tähtvere Tennisekeskus\, Laulupeo puiestee 19\, Tartu
ATTACH;FMTTYPE=image/png:https://tartutennis.ee/wp-content/uploads/2025/01/Tennisekeskus-1-2-1.png
END:VEVENT
BEGIN:VEVENT
DTSTART;TZID=Europe/Helsinki:20260530T100000
DTEND;TZID=Europe/Helsinki:20260530T160000
DTSTAMP:20260421T234509
CREATED:20260115T125341Z
LAST-MODIFIED:20260115T130100Z
UID:10001204-1780135200-1780156800@tartutennis.ee
SUMMARY:LASTETENNIS 75%
DESCRIPTION:Rohkem infot: www.etl.tournamentsoftware.com
URL:https://tartutennis.ee/sundmus/lastetennis-75-2/
LOCATION:Tähtvere Tennisekeskus\, Laulupeo puiestee 19\, Tartu
ATTACH;FMTTYPE=image/png:https://tartutennis.ee/wp-content/uploads/2025/01/Tennisekeskus-1-2-1.png
END:VEVENT
BEGIN:VEVENT
DTSTART;TZID=Europe/Helsinki:20260613T100000
DTEND;TZID=Europe/Helsinki:20260613T190000
DTSTAMP:20260421T234509
CREATED:20260303T145500Z
LAST-MODIFIED:20260303T145500Z
UID:10001232-1781344800-1781377200@tartutennis.ee
SUMMARY:SEB Liigatennise III liiga meeste ja naiste üksikmänguturniir
DESCRIPTION:Liigatennise turniiridel lihvivad oma oskusi lisaks harrastajatele ka Eesti seeniortennisistid ja endised tegevmängijad\, kes on jaotatud vastavalt mängutasemele erinevatesse tasemegruppidesse. See on parim võimalus oma tennisealased oskused proovile panna. \nRohkem infot leiate: www.etl.tournamentsoftware.com ja www.liigatennis.ee
URL:https://tartutennis.ee/sundmus/seb-liigatennise-iii-liiga-meeste-ja-naiste-uksikmanguturniir/
LOCATION:Tähtvere Tennisekeskus\, Laulupeo puiestee 19\, Tartu
ATTACH;FMTTYPE=image/png:https://tartutennis.ee/wp-content/uploads/2025/01/Tennisekeskus-1.png
END:VEVENT
BEGIN:VEVENT
DTSTART;VALUE=DATE:20260620
DTEND;VALUE=DATE:20260623
DTSTAMP:20260421T234509
CREATED:20260303T150050Z
LAST-MODIFIED:20260303T150050Z
UID:10001239-1781913600-1782172799@tartutennis.ee
SUMMARY:EESTI NOORTE GP T12
DESCRIPTION:Rohkem infot: www.etl.tournamentsoftware.com
URL:https://tartutennis.ee/sundmus/eesti-noorte-gp-t12/
LOCATION:Tähtvere Tennisekeskus\, Laulupeo puiestee 19\, Tartu
ATTACH;FMTTYPE=image/png:https://tartutennis.ee/wp-content/uploads/2025/01/Tennisekeskus-1-2.png
END:VEVENT
BEGIN:VEVENT
DTSTART;TZID=Europe/Helsinki:20260627T080000
DTEND;TZID=Europe/Helsinki:20260627T170000
DTSTAMP:20260421T234509
CREATED:20260303T145828Z
LAST-MODIFIED:20260303T145828Z
UID:10001236-1782547200-1782579600@tartutennis.ee
SUMMARY:ÖÖKAS Suvi
DESCRIPTION:
URL:https://tartutennis.ee/sundmus/ookas-suvi-2/
LOCATION:Tähtvere Tennisekeskus\, Laulupeo puiestee 19\, Tartu
END:VEVENT
BEGIN:VEVENT
DTSTART;TZID=Europe/Helsinki:20260704T100000
DTEND;TZID=Europe/Helsinki:20260704T190000
DTSTAMP:20260421T234509
CREATED:20260303T145538Z
LAST-MODIFIED:20260303T145538Z
UID:10001233-1783159200-1783191600@tartutennis.ee
SUMMARY:SEB Liigatennise IV liiga meeste ja naiste üksikmänguturniir
DESCRIPTION:Liigatennise turniiridel lihvivad oma oskusi lisaks harrastajatele ka Eesti seeniortennisistid ja endised tegevmängijad\, kes on jaotatud vastavalt mängutasemele erinevatesse tasemegruppidesse. See on parim võimalus oma tennisealased oskused proovile panna. \nRohkem infot leiate: www.etl.tournamentsoftware.com ja www.liigatennis.ee
URL:https://tartutennis.ee/sundmus/seb-liigatennise-iv-liiga-meeste-ja-naiste-uksikmanguturniir-4/
LOCATION:Tähtvere Tennisekeskus\, Laulupeo puiestee 19\, Tartu
ATTACH;FMTTYPE=image/png:https://tartutennis.ee/wp-content/uploads/2025/01/Tennisekeskus-1.png
END:VEVENT
BEGIN:VEVENT
DTSTART;VALUE=DATE:20260711
DTEND;VALUE=DATE:20260714
DTSTAMP:20260421T234509
CREATED:20260303T150159Z
LAST-MODIFIED:20260303T150159Z
UID:10001240-1783728000-1783987199@tartutennis.ee
SUMMARY:EESTI NOORTE GP P18
DESCRIPTION:Rohkem infot: www.etl.tournamentsoftware.com
URL:https://tartutennis.ee/sundmus/eesti-noorte-gp-p18/
LOCATION:Tähtvere Tennisekeskus\, Laulupeo puiestee 19\, Tartu
ATTACH;FMTTYPE=image/png:https://tartutennis.ee/wp-content/uploads/2025/01/Tennisekeskus-1-2.png
END:VEVENT
BEGIN:VEVENT
DTSTART;TZID=Europe/Helsinki:20260718T100000
DTEND;TZID=Europe/Helsinki:20260718T160000
DTSTAMP:20260421T234509
CREATED:20260303T150517Z
LAST-MODIFIED:20260303T150517Z
UID:10001242-1784368800-1784390400@tartutennis.ee
SUMMARY:LASTETENNIS 25% ja 50%
DESCRIPTION:Rohkem infot: www.etl.tournamentsoftware.com
URL:https://tartutennis.ee/sundmus/lastetennis-25-ja-50-3/
LOCATION:Tähtvere Tennisekeskus\, Laulupeo puiestee 19\, Tartu
ATTACH;FMTTYPE=image/png:https://tartutennis.ee/wp-content/uploads/2025/01/Tennisekeskus-1-2-1.png
END:VEVENT
BEGIN:VEVENT
DTSTART;TZID=Europe/Helsinki:20260801T100000
DTEND;TZID=Europe/Helsinki:20260801T160000
DTSTAMP:20260421T234509
CREATED:20260303T150555Z
LAST-MODIFIED:20260303T150555Z
UID:10001243-1785578400-1785600000@tartutennis.ee
SUMMARY:LASTETENNIS 75%
DESCRIPTION:Rohkem infot: www.etl.tournamentsoftware.com
URL:https://tartutennis.ee/sundmus/lastetennis-75-3/
LOCATION:Tähtvere Tennisekeskus\, Laulupeo puiestee 19\, Tartu
ATTACH;FMTTYPE=image/png:https://tartutennis.ee/wp-content/uploads/2025/01/Tennisekeskus-1-2-1.png
END:VEVENT
BEGIN:VEVENT
DTSTART;VALUE=DATE:20260815
DTEND;VALUE=DATE:20260817
DTSTAMP:20260421T234509
CREATED:20260303T150428Z
LAST-MODIFIED:20260303T150428Z
UID:10001241-1786752000-1786924799@tartutennis.ee
SUMMARY:Noorteliiga III 75% TP
DESCRIPTION:Rohkem infot: www.etl.tournamentsoftware.com
URL:https://tartutennis.ee/sundmus/noorteliiga-iii-75-tp/
LOCATION:Tähtvere Tennisekeskus\, Laulupeo puiestee 19\, Tartu
ATTACH;FMTTYPE=image/png:https://tartutennis.ee/wp-content/uploads/2026/01/Tennisekeskus-1-7.png
END:VEVENT
BEGIN:VEVENT
DTSTART;TZID=Europe/Helsinki:20260822T100000
DTEND;TZID=Europe/Helsinki:20260822T190000
DTSTAMP:20260421T234509
CREATED:20260303T145611Z
LAST-MODIFIED:20260303T145611Z
UID:10001234-1787392800-1787425200@tartutennis.ee
SUMMARY:SEB Liigatennise II liiga meeste ja naiste üksikmänguturniir
DESCRIPTION:Liigatennise turniiridel lihvivad oma oskusi lisaks harrastajatele ka Eesti seeniortennisistid ja endised tegevmängijad\, kes on jaotatud vastavalt mängutasemele erinevatesse tasemegruppidesse. See on parim võimalus oma tennisealased oskused proovile panna. \nRohkem infot leiate: www.etl.tournamentsoftware.com ja www.liigatennis.ee
URL:https://tartutennis.ee/sundmus/seb-liigatennise-ii-liiga-meeste-ja-naiste-uksikmanguturniir-2/
LOCATION:Tähtvere Tennisekeskus\, Laulupeo puiestee 19\, Tartu
ATTACH;FMTTYPE=image/png:https://tartutennis.ee/wp-content/uploads/2025/01/Tennisekeskus-1.png
END:VEVENT
END:VCALENDAR