BEGIN:VCALENDAR
VERSION:2.0
PRODID:-//Tähtvere Tennisekeskus - ECPv6.15.19//NONSGML v1.0//EN
CALSCALE:GREGORIAN
METHOD:PUBLISH
X-WR-CALNAME:Tähtvere Tennisekeskus
X-ORIGINAL-URL:https://www.tartutennis.ee
X-WR-CALDESC:Events for Tähtvere Tennisekeskus
REFRESH-INTERVAL;VALUE=DURATION:PT1H
X-Robots-Tag:noindex
X-PUBLISHED-TTL:PT1H
BEGIN:VTIMEZONE
TZID:Europe/Helsinki
BEGIN:DAYLIGHT
TZOFFSETFROM:+0200
TZOFFSETTO:+0300
TZNAME:EEST
DTSTART:20240331T010000
END:DAYLIGHT
BEGIN:STANDARD
TZOFFSETFROM:+0300
TZOFFSETTO:+0200
TZNAME:EET
DTSTART:20241027T010000
END:STANDARD
BEGIN:DAYLIGHT
TZOFFSETFROM:+0200
TZOFFSETTO:+0300
TZNAME:EEST
DTSTART:20250330T010000
END:DAYLIGHT
BEGIN:STANDARD
TZOFFSETFROM:+0300
TZOFFSETTO:+0200
TZNAME:EET
DTSTART:20251026T010000
END:STANDARD
BEGIN:DAYLIGHT
TZOFFSETFROM:+0200
TZOFFSETTO:+0300
TZNAME:EEST
DTSTART:20260329T010000
END:DAYLIGHT
BEGIN:STANDARD
TZOFFSETFROM:+0300
TZOFFSETTO:+0200
TZNAME:EET
DTSTART:20261025T010000
END:STANDARD
BEGIN:DAYLIGHT
TZOFFSETFROM:+0200
TZOFFSETTO:+0300
TZNAME:EEST
DTSTART:20270328T010000
END:DAYLIGHT
BEGIN:STANDARD
TZOFFSETFROM:+0300
TZOFFSETTO:+0200
TZNAME:EET
DTSTART:20271031T010000
END:STANDARD
END:VTIMEZONE
BEGIN:VEVENT
DTSTART;TZID=Europe/Helsinki:20260418T100000
DTEND;TZID=Europe/Helsinki:20260418T190000
DTSTAMP:20260422T015157
CREATED:20260115T130310Z
LAST-MODIFIED:20260115T130310Z
UID:10001207-1776506400-1776538800@www.tartutennis.ee
SUMMARY:SEB Liigatennise IV liiga meeste ja naiste üksikmänguturniir
DESCRIPTION:Liigatennise turniiridel lihvivad oma oskusi lisaks harrastajatele ka Eesti seeniortennisistid ja endised tegevmängijad\, kes on jaotatud vastavalt mängutasemele erinevatesse tasemegruppidesse. See on parim võimalus oma tennisealased oskused proovile panna. \nRohkem infot leiate: www.etl.tournamentsoftware.com ja www.liigatennis.ee
URL:https://www.tartutennis.ee/sundmus/seb-liigatennise-iv-liiga-meeste-ja-naiste-uksikmanguturniir-3/
LOCATION:Tähtvere Tennisekeskus\, Laulupeo puiestee 19\, Tartu
ATTACH;FMTTYPE=image/png:https://tartutennis.ee/wp-content/uploads/2025/01/Tennisekeskus-1.png
END:VEVENT
BEGIN:VEVENT
DTSTART;VALUE=DATE:20260411
DTEND;VALUE=DATE:20260413
DTSTAMP:20260422T015157
CREATED:20260115T125221Z
LAST-MODIFIED:20260115T125221Z
UID:10001203-1775865600-1776038399@www.tartutennis.ee
SUMMARY:Noorteliiga II P
DESCRIPTION:Rohkem infot: www.etl.tournamentsoftware.com
URL:https://www.tartutennis.ee/sundmus/noorteliiga-ii-p/
LOCATION:Tähtvere Tennisekeskus\, Laulupeo puiestee 19\, Tartu
ATTACH;FMTTYPE=image/png:https://tartutennis.ee/wp-content/uploads/2026/01/Tennisekeskus-1-7.png
END:VEVENT
BEGIN:VEVENT
DTSTART;VALUE=DATE:20260404
DTEND;VALUE=DATE:20260405
DTSTAMP:20260422T015157
CREATED:20260115T124505Z
LAST-MODIFIED:20260115T125129Z
UID:10001202-1775260800-1775347199@www.tartutennis.ee
SUMMARY:Noorteliiga III
DESCRIPTION:Rohkem infot: www.etl.tournamentsoftware.com
URL:https://www.tartutennis.ee/sundmus/noorteliiga/
LOCATION:Tähtvere Tennisekeskus\, Laulupeo puiestee 19\, Tartu
ATTACH;FMTTYPE=image/png:https://tartutennis.ee/wp-content/uploads/2026/01/Tennisekeskus-1-7.png
END:VEVENT
BEGIN:VEVENT
DTSTART;TZID=Europe/Helsinki:20260327T100000
DTEND;TZID=Europe/Helsinki:20260331T120000
DTSTAMP:20260422T015157
CREATED:20251126T143301Z
LAST-MODIFIED:20260325T115203Z
UID:10001188-1774605600-1774958400@www.tartutennis.ee
SUMMARY:EESTI NOORTE KARIKAVÕISTLUSED T12\, 14\, 16\, 18
DESCRIPTION:Sellel nädalavahetusel toimuvad Tähtvere Tennisekeskuses Eesti Noorte Karikavõistlused U12\, U14\, U16 ja U18 vanuseklassides. Tähtvere Tennisekooli eest astuvad väljakule Anett-Mariin Kallas\, Meribel Tamsalu\, Gristella Mõttus\, Eva Laaneots\, Amina Andrianova\, Mia Marta Võlli ja Theresa Kaasik. Tüdrukute turniiri tulemusi ja tabeleid näete SIIT. \nSamaaegselt toimuvad Veeriku Tennisekeskuses poiste karikavõistlused. Tähtvere Tennisekooli lähevad esindama Robert Tamm\, Arthur Uibopuu\, Kauri Kesvatera\, Jakob Allilender\, Mihkel Võlli\, Leander Kongi ja Bastian Erik Viira. Poiste turniiri tulemusi ja tabeleid näete SIIT. \nTule vaata oma vanuseklassi Eesti tippe ja ela omadele kaasa!
URL:https://www.tartutennis.ee/sundmus/eesti-noorte-karikavoistlused-t12-14-16-18/
LOCATION:Tähtvere Tennisekeskus\, Laulupeo puiestee 19\, Tartu
ATTACH;FMTTYPE=image/png:https://tartutennis.ee/wp-content/uploads/2025/01/Tennisekeskus-1-2-2.png
END:VEVENT
BEGIN:VEVENT
DTSTART;TZID=Europe/Helsinki:20260314T190000
DTEND;TZID=Europe/Helsinki:20260314T233000
DTSTAMP:20260422T015157
CREATED:20260201T114153Z
LAST-MODIFIED:20260314T101042Z
UID:10001221-1773514800-1773531000@www.tartutennis.ee
SUMMARY:Tähtvere NAISTEKAS vol 2
DESCRIPTION:TABELID JA AJAKAVA: \n \n \n \n \n \nTähtvere NAISTEKAS tuleb taas. \n\n\nIkka märtsikuus ja ikka ainult naistele. \nOotame kõiki naisi osalema põneval turniiril\, kus klubiline kuuluvus ega mängutase ei ole takistuseks. Valida saab endale sobiva tugevusgrupi ja kõigil on võimalus kaasa lüüa! \n\n\nFormaat: ajatennis. Kõigile garanteeritud 3 × 40 min mänguaega (2 alagrupimängu + 1 kohamäng)\nOsavõtutasu: 45 €\nParimatele auhinnad \n\nTugevusgrupid: \n\n\nPro Naised: N2+N2 / N1+N3\nMeistrid Naised: N3+N3\nTegijad Naised: N4+N4\nTublid Naised: Algaja + Algaja (Tublide Tulijate tase)
URL:https://www.tartutennis.ee/sundmus/naistekas-vol-2/
LOCATION:Tähtvere Tennisekeskus\, Laulupeo puiestee 19\, Tartu
ATTACH;FMTTYPE=image/png:https://tartutennis.ee/wp-content/uploads/2025/01/Tennisekeskus-1-42.png
END:VEVENT
BEGIN:VEVENT
DTSTART;VALUE=DATE:20260314
DTEND;VALUE=DATE:20260316
DTSTAMP:20260422T015157
CREATED:20251126T143126Z
LAST-MODIFIED:20251126T143126Z
UID:10001187-1773446400-1773619199@www.tartutennis.ee
SUMMARY:TENNIS 10
DESCRIPTION:Rohkem infot: www.etl.tournamentsoftware.com
URL:https://www.tartutennis.ee/sundmus/tennis-10/
LOCATION:Tähtvere Tennisekeskus\, Laulupeo puiestee 19\, Tartu
ATTACH;FMTTYPE=image/png:https://tartutennis.ee/wp-content/uploads/2025/01/Tennisekeskus-1-3.png
END:VEVENT
BEGIN:VEVENT
DTSTART;VALUE=DATE:20260307
DTEND;VALUE=DATE:20260309
DTSTAMP:20260422T015157
CREATED:20251126T143458Z
LAST-MODIFIED:20251126T143603Z
UID:10001189-1772841600-1773014399@www.tartutennis.ee
SUMMARY:KLUBIDE KARIKAVÕISTLUSED
DESCRIPTION:Rohkem infot: www.etl.tournamentsoftware.com
URL:https://www.tartutennis.ee/sundmus/klubide-karikavoistlused/
LOCATION:Tähtvere Tennisekeskus\, Laulupeo puiestee 19\, Tartu
ATTACH;FMTTYPE=image/png:https://tartutennis.ee/wp-content/uploads/2025/01/Tennisekeskus-1-5.png
END:VEVENT
BEGIN:VEVENT
DTSTART;TZID=Europe/Helsinki:20260228T100000
DTEND;TZID=Europe/Helsinki:20260228T190000
DTSTAMP:20260422T015157
CREATED:20251126T140050Z
LAST-MODIFIED:20260101T170954Z
UID:10001185-1772272800-1772305200@www.tartutennis.ee
SUMMARY:SEB Liigatennise II liiga meeste ja naiste üksikmänguturniir
DESCRIPTION:Liigatennise turniiridel lihvivad oma oskusi lisaks harrastajatele ka Eesti seeniortennisistid ja endised tegevmängijad\, kes on jaotatud vastavalt mängutasemele erinevatesse tasemegruppidesse. See on parim võimalus oma tennisealased oskused proovile panna. \nRohkem infot leiate: www.etl.tournamentsoftware.com ja www.liigatennis.ee
URL:https://www.tartutennis.ee/sundmus/seb-liigatennise-ii-liiga-meeste-ja-naiste-ukiskmanguturniir-2/
LOCATION:Tähtvere Tennisekeskus\, Laulupeo puiestee 19\, Tartu
ATTACH;FMTTYPE=image/png:https://tartutennis.ee/wp-content/uploads/2025/01/Tennisekeskus-1.png
END:VEVENT
BEGIN:VEVENT
DTSTART;VALUE=DATE:20260227
DTEND;VALUE=DATE:20260302
DTSTAMP:20260422T015157
CREATED:20260202T131414Z
LAST-MODIFIED:20260202T132246Z
UID:10001222-1772150400-1772409599@www.tartutennis.ee
SUMMARY:Tartu linnalaager
DESCRIPTION:Veebruari viimastel päevadel saab Tähtvere Tennisekeskuses hoo sisse talvine linnalaager\, mis on mõeldud just Sulle\, kui armastad tennist ning soovid oma oskusi täiuseni lihvida. \n💪 Treeningud toimuvad kahes vahetuses\, kolmel väljakul – korraga 1\,5 tundi. Treeningutega paneme rõhku nii tehnika kui mängulise nutikuse arendamisele. Ja loomulikult ei puudu laagrist ka turniirimängud – saad testida\, kui palju oled arenenud ja nautida sportlikku võistlusmomenti. \n🔘 Reede õhtul ootab meid ees 1 treening\n🔘 Laupäeval ootab meid ees hommikune treening ja õhtune turniir\n🔘 Pühapäeval ootabe meid ees hommikune treening \n🎾 Treenerid laagris: \n\nMadis Sprenk\nJanno Järve\n\n📅 Registreerimine on avatud SIIN. \n\nPane tähele\, et viimasel nädalal tühistamine pole enam võimalik.\nOsalustasu: 140 € \nKüsimuste ja ettepanekute korral võtke ühendust Madisega +372 513 9992 või madis@tartutennis.ee.
URL:https://www.tartutennis.ee/sundmus/tartu-linnalaager/
LOCATION:Tähtvere Tennisekeskus\, Laulupeo puiestee 19\, Tartu
CATEGORIES:Laager
ATTACH;FMTTYPE=image/jpeg:https://tartutennis.ee/wp-content/uploads/2026/02/IMG_0064.jpeg
END:VEVENT
BEGIN:VEVENT
DTSTART;TZID=Europe/Helsinki:20260224T130000
DTEND;TZID=Europe/Helsinki:20260224T180000
DTSTAMP:20260422T015157
CREATED:20260216T190201Z
LAST-MODIFIED:20260218T194817Z
UID:10001223-1771938000-1771956000@www.tartutennis.ee
SUMMARY:EV 108 paarismänguturniir
DESCRIPTION:TABELID JA AJAKAVA:\n\n \n\n\n\n\n\nTule tähista Eesti Vabariigi 108. sünnipäeva tenniseturniiril 24.02. algusega kell 13.00!\n\nMirjam ja Sigrid kutsuvad turniirile\, kus lisaks tennisemängule loovad meeleolu ka Eesti maitsed ja lipuvärvid.\nRiietus ei pea olema pidulik (ikkagi ju sportlik päev :)\, aga võiks olla sini-must-valge. \n  \nMängitakse kahes tugevusgrupis ja osalema pääseb kokku 6+6 paari (24 mängijat). \nFormaat: ajatennis; kõigile garanteeritud 3 × 40 min mänguaega (2 alagrupimängu + 1 kohamäng)\nOsavõtutasu: 45 €\nParimatele auhinnad Eesti tootjatelt\nTäname toetajaid: A le Coq\, Värska\, Nõo Lihatööstus\, Grüne Fee\, Kohvikeskus\, Annely Pähn\, Merit Aktiva\n\nKorraldajad: Sigrid Kallam / 526 1639 ja Mirjam Mikson / 523 2920\n\n \n 
URL:https://www.tartutennis.ee/sundmus/ev-108/
LOCATION:Tähtvere Tennisekeskus\, Laulupeo puiestee 19\, Tartu
END:VEVENT
BEGIN:VEVENT
DTSTART;VALUE=DATE:20260221
DTEND;VALUE=DATE:20260223
DTSTAMP:20260422T015157
CREATED:20251126T135959Z
LAST-MODIFIED:20251126T135959Z
UID:10001184-1771632000-1771804799@www.tartutennis.ee
SUMMARY:EESTI NOORTE GP P14
DESCRIPTION:Rohkem infot: www.etl.tournamentsoftware.com
URL:https://www.tartutennis.ee/sundmus/eesti-noorte-gp/
LOCATION:Tähtvere Tennisekeskus\, Laulupeo puiestee 19\, Tartu
ATTACH;FMTTYPE=image/png:https://tartutennis.ee/wp-content/uploads/2025/01/Tennisekeskus-1-2.png
END:VEVENT
BEGIN:VEVENT
DTSTART;TZID=Europe/Helsinki:20260214T110000
DTEND;TZID=Europe/Helsinki:20260214T230000
DTSTAMP:20260422T015157
CREATED:20251106T142001Z
LAST-MODIFIED:20260208T135413Z
UID:10001166-1771066800-1771110000@www.tartutennis.ee
SUMMARY:Sõpruskohtumine RV Tenniseklubiga
DESCRIPTION:Sõbrapäeval 14.veebruaril tulevad meile külla tennisesõbrad Tallinnast\, RV Tenniseklubist. See on esmakordne mõõduvõtt Tähtverega ja loodetavasti kasvab siit välja üks järjekordne tore sõprusklubide kohtumiste sari. \nRV tenniseklubi esipaar on meile juba tuttavad mängijad Riin ja Rain Raidna\, kellele lisaks on seekord mängima oodata veel 8 naist ja 3 meest. \nRV Tenniseklubi mängijate tasemed\nNaised: I liiga – 1 mängija; III liiga – 5 mängijat; III/IV liiga – 3 mängijat\nMehed: II/III liiga – 3 mängijat; IV liiga – 1 mängija \nTähtvere poolt püüaks neile vastata sama arvu ja sama tasemega mängijatega\, ehk siis palun registreerimisel lisa ka enda liigaline kuuluvus. Tule veeda sõbrapäev koos klubikaaslaste ja tennisemänguga ! \n  \nAeg ja koht:\n14.02. tennis Tähtvere Tennisekeskuses kell 11.00-18.00\, järgneb kahe klubi ühine chill koos söögi ja joogiga (cateringi eest hoolitseb meie klubiliige Mirjam Mikson) \nOsavõtutasu:\n50€ \nMänguformaat:\npaaris- ja segapaarismängud\, täpsem ajakava ja formaat selgub hiljem \nTähtvere kontakt: Annika / annika@tartutennis.ee / 5667 3138
URL:https://www.tartutennis.ee/sundmus/sopruskohtumine-rv-tenniseklubiga/
LOCATION:Tähtvere Tennisekeskus\, Laulupeo puiestee 19\, Tartu
ATTACH;FMTTYPE=image/jpeg:https://tartutennis.ee/wp-content/uploads/2025/05/Tennisekeskus-1-3.jpg
END:VEVENT
BEGIN:VEVENT
DTSTART;VALUE=DATE:20260207
DTEND;VALUE=DATE:20260209
DTSTAMP:20260422T015157
CREATED:20251126T135639Z
LAST-MODIFIED:20251126T135639Z
UID:10001182-1770422400-1770595199@www.tartutennis.ee
SUMMARY:EESTI NOORTE GP P12
DESCRIPTION:Rohkem infot: www.etl.tournamentsoftware.com
URL:https://www.tartutennis.ee/sundmus/eesti-noorte-gp-p12-2/
LOCATION:Tähtvere Tennisekeskus\, Laulupeo puiestee 19\, Tartu
ATTACH;FMTTYPE=image/png:https://tartutennis.ee/wp-content/uploads/2025/01/Tennisekeskus-1-2.png
END:VEVENT
BEGIN:VEVENT
DTSTART;TZID=Europe/Helsinki:20260131T100000
DTEND;TZID=Europe/Helsinki:20260131T190000
DTSTAMP:20260422T015157
CREATED:20251126T135720Z
LAST-MODIFIED:20260101T170839Z
UID:10001183-1769853600-1769886000@www.tartutennis.ee
SUMMARY:SEB Liigatennise III liiga meeste ja naiste üksikmänguturniir
DESCRIPTION:Liigatennise turniiridel lihvivad oma oskusi lisaks harrastajatele ka Eesti seeniortennisistid ja endised tegevmängijad\, kes on jaotatud vastavalt mängutasemele erinevatesse tasemegruppidesse. See on parim võimalus oma tennisealased oskused proovile panna. \nRohkem infot leiate: www.etl.tournamentsoftware.com ja www.liigatennis.ee
URL:https://www.tartutennis.ee/sundmus/seb-liigatennise-iii-liiga-meeste-ja-naiste-ukiskmanguturniir/
LOCATION:Tähtvere Tennisekeskus\, Laulupeo puiestee 19\, Tartu
ATTACH;FMTTYPE=image/png:https://tartutennis.ee/wp-content/uploads/2025/01/Tennisekeskus-1.png
END:VEVENT
BEGIN:VEVENT
DTSTART;TZID=Europe/Helsinki:20260124T190000
DTEND;TZID=Europe/Helsinki:20260124T233000
DTSTAMP:20260422T015157
CREATED:20260106T161424Z
LAST-MODIFIED:20260209T181431Z
UID:10001201-1769281200-1769297400@www.tartutennis.ee
SUMMARY:ÖÖKAS Talv powered by Slept
DESCRIPTION:  Tähtvere ÖÖKAS powered by Slept on Tartu kõige särtsakam ja meeleolukam paarismänguturniir\, mis toob mängurõõmu neljal korral aastas! Turniiril ei loe klubiline kuuluvus ega mängutase – kõik saavad osa\, sest igaühele leidub sobiv tugevusgrupp.\n\nFormaat: ajatennis. Kõigile garanteeritud 3 × 40 min mänguaega (2 alagrupimängu + 1 kohamäng)\nOsavõtutasu: 45 €\nAuhinnad: turniiri peatoetaja Slept hoolitseb selle eest\, et igal etapil oleks võitjaid ootamas väärt kingitused. \nTugevusgrupid: \n\nPro Liiga – M2+M2 / M2+N1 / N1+N1 / M1+N2 / M1+M3\nMeistrite Liiga – M2+N2 / M2+N3 / M3+M3 / N1+N2\nTegijate Liiga – M4+N3 / M3+N3 / N2+N3\nTulijate Liiga – M4+M4 / M4+N4 / N3+N4\n\n  Olgu sul eesmärgiks väljakul maksimum anda või lihtsalt nautida Tähtvere ÖÖKAS erilist atmosfääri – see turniir on sinu jaoks! \n__________________________________ \n\n🥇🥈🥉 Tulemused ja tabelid võistlusliigade jaotuses: Pro liiga\, Meistrite liiga\, Tegijate liiga\, Tulijate liiga.
URL:https://www.tartutennis.ee/sundmus/ookas-talv-powered-by-slept/
LOCATION:Tähtvere Tennisekeskus\, Laulupeo puiestee 19\, Tartu
CATEGORIES:Tähtvere Öökas
ATTACH;FMTTYPE=image/jpeg:https://tartutennis.ee/wp-content/uploads/2025/09/Tennisekeskus-1.jpg
END:VEVENT
BEGIN:VEVENT
DTSTART;VALUE=DATE:20260124
DTEND;VALUE=DATE:20260126
DTSTAMP:20260422T015157
CREATED:20251126T135250Z
LAST-MODIFIED:20251126T135250Z
UID:10001181-1769212800-1769385599@www.tartutennis.ee
SUMMARY:EESTI NOORTE GP T18
DESCRIPTION:Rohkem infot: www.etl.tournamentsoftware.com
URL:https://www.tartutennis.ee/sundmus/eesti-noorte-gp-3/
LOCATION:Tähtvere Tennisekeskus\, Laulupeo puiestee 19\, Tartu
ATTACH;FMTTYPE=image/png:https://tartutennis.ee/wp-content/uploads/2025/01/Tennisekeskus-1-2.png
END:VEVENT
BEGIN:VEVENT
DTSTART;VALUE=DATE:20260117
DTEND;VALUE=DATE:20260119
DTSTAMP:20260422T015157
CREATED:20251126T135108Z
LAST-MODIFIED:20251126T135108Z
UID:10001180-1768608000-1768780799@www.tartutennis.ee
SUMMARY:EESTI NOORTE GP T16
DESCRIPTION:Rohkem infot: www.etl.tournamentsoftware.com
URL:https://www.tartutennis.ee/sundmus/eesti-noorte-gp-t16/
LOCATION:Tähtvere Tennisekeskus\, Laulupeo puiestee 19\, Tartu
ATTACH;FMTTYPE=image/png:https://tartutennis.ee/wp-content/uploads/2025/01/Tennisekeskus-1-2.png
END:VEVENT
BEGIN:VEVENT
DTSTART;TZID=Europe/Helsinki:20260110T100000
DTEND;TZID=Europe/Helsinki:20260110T190000
DTSTAMP:20260422T015157
CREATED:20251126T133816Z
LAST-MODIFIED:20260101T170748Z
UID:10001178-1768039200-1768071600@www.tartutennis.ee
SUMMARY:SEB Liigatennise IV liiga meeste ja naiste üksikmänguturniir
DESCRIPTION:Liigatennise turniiridel lihvivad oma oskusi lisaks harrastajatele ka Eesti seeniortennisistid ja endised tegevmängijad\, kes on jaotatud vastavalt mängutasemele erinevatesse tasemegruppidesse. See on parim võimalus oma tennisealased oskused proovile panna. \nRohkem infot leiate: www.etl.tournamentsoftware.com ja www.liigatennis.ee
URL:https://www.tartutennis.ee/sundmus/seb-liigatennise-iv-liiga-meeste-ja-naiste-ukiskmanguturniir-2/
LOCATION:Tähtvere Tennisekeskus\, Laulupeo puiestee 19\, Tartu
ATTACH;FMTTYPE=image/png:https://tartutennis.ee/wp-content/uploads/2025/01/Tennisekeskus-1.png
END:VEVENT
BEGIN:VEVENT
DTSTART;TZID=Europe/Helsinki:20251206T080000
DTEND;TZID=Europe/Helsinki:20251207T170000
DTSTAMP:20260422T015157
CREATED:20250912T083214Z
LAST-MODIFIED:20250912T083214Z
UID:10001145-1765008000-1765126800@www.tartutennis.ee
SUMMARY:Tenniselaager
DESCRIPTION:
URL:https://www.tartutennis.ee/sundmus/tenniselaager/
LOCATION:Tähtvere Tennisekeskus\, Laulupeo puiestee 19\, Tartu
END:VEVENT
BEGIN:VEVENT
DTSTART;TZID=Europe/Helsinki:20251129T100000
DTEND;TZID=Europe/Helsinki:20251129T190000
DTSTAMP:20260422T015157
CREATED:20250912T080711Z
LAST-MODIFIED:20251104T072754Z
UID:10001138-1764410400-1764442800@www.tartutennis.ee
SUMMARY:SEB Liigatennise IV liiga meeste ja naiste ükiskmänguturniir
DESCRIPTION:Liigatennise turniiridel lihvivad oma oskusi lisaks harrastajatele ka Eesti seeniortennisistid ja endised tegevmängijad\, kes on jaotatud vastavalt mängutasemele erinevatesse tasemegruppidesse. See on parim võimalus oma tennisealased oskused proovile panna. \nRohkem infot leiate: www.etl.tournamentsoftware.com ja www.liigatennis.ee
URL:https://www.tartutennis.ee/sundmus/seb-liigatennis-12/
LOCATION:Tähtvere Tennisekeskus\, Laulupeo puiestee 19\, Tartu
ATTACH;FMTTYPE=image/png:https://tartutennis.ee/wp-content/uploads/2025/01/Tennisekeskus-1.png
END:VEVENT
BEGIN:VEVENT
DTSTART;VALUE=DATE:20251115
DTEND;VALUE=DATE:20251116
DTSTAMP:20260422T015157
CREATED:20250912T081502Z
LAST-MODIFIED:20250912T081636Z
UID:10001142-1763164800-1763251199@www.tartutennis.ee
SUMMARY:Treenerite Üldkoosolek
DESCRIPTION:
URL:https://www.tartutennis.ee/sundmus/treenerite-uldkoosolek/
LOCATION:Tähtvere Tennisekeskus\, Laulupeo puiestee 19\, Tartu
END:VEVENT
BEGIN:VEVENT
DTSTART;TZID=Europe/Helsinki:20251101T100000
DTEND;TZID=Europe/Helsinki:20251101T160000
DTSTAMP:20260422T015157
CREATED:20250912T081222Z
LAST-MODIFIED:20250912T131621Z
UID:10001141-1761991200-1762012800@www.tartutennis.ee
SUMMARY:LASTETENNIS 75% E Surfar Cup
DESCRIPTION:Rohkem infot: www.etl.tournamentsoftware.com
URL:https://www.tartutennis.ee/sundmus/lastetennis-75/
LOCATION:Tähtvere Tennisekeskus\, Laulupeo puiestee 19\, Tartu
ATTACH;FMTTYPE=image/png:https://tartutennis.ee/wp-content/uploads/2025/01/Tennisekeskus-1-2-1.png
END:VEVENT
BEGIN:VEVENT
DTSTART;TZID=Europe/Helsinki:20251025T100000
DTEND;TZID=Europe/Helsinki:20251025T160000
DTSTAMP:20260422T015157
CREATED:20250912T081139Z
LAST-MODIFIED:20250912T131641Z
UID:10001140-1761386400-1761408000@www.tartutennis.ee
SUMMARY:LASTETENNIS 25% JA 50% E Surfar Cup
DESCRIPTION:Rohkem infot: www.etl.tournamentsoftware.com
URL:https://www.tartutennis.ee/sundmus/lastetennis-25-ja-50/
LOCATION:Tähtvere Tennisekeskus\, Laulupeo puiestee 19\, Tartu
ATTACH;FMTTYPE=image/png:https://tartutennis.ee/wp-content/uploads/2025/01/Tennisekeskus-1-2-1.png
END:VEVENT
BEGIN:VEVENT
DTSTART;TZID=Europe/Helsinki:20251018T100000
DTEND;TZID=Europe/Helsinki:20251018T190000
DTSTAMP:20260422T015157
CREATED:20250912T080608Z
LAST-MODIFIED:20250912T080608Z
UID:10001137-1760781600-1760814000@www.tartutennis.ee
SUMMARY:SEB Liigatennise III liiga meeste ja naiste paarismänguturniir
DESCRIPTION:Liigatennise turniiridel lihvivad oma oskusi lisaks harrastajatele ka Eesti seeniortennisistid ja endised tegevmängijad\, kes on jaotatud vastavalt mängutasemele erinevatesse tasemegruppidesse. See on parim võimalus oma tennisealased oskused proovile panna. \nRohkem infot leiate: www.etl.tournamentsoftware.com ja www.liigatennis.ee
URL:https://www.tartutennis.ee/sundmus/seb-liigatennis-11/
LOCATION:Tähtvere Tennisekeskus\, Laulupeo puiestee 19\, Tartu
ATTACH;FMTTYPE=image/png:https://tartutennis.ee/wp-content/uploads/2025/01/Tennisekeskus-1.png
END:VEVENT
BEGIN:VEVENT
DTSTART;TZID=Europe/Helsinki:20251011T190000
DTEND;TZID=Europe/Helsinki:20251011T233000
DTSTAMP:20260422T015157
CREATED:20250916T055200Z
LAST-MODIFIED:20251013T071504Z
UID:10001147-1760209200-1760225400@www.tartutennis.ee
SUMMARY:ÖÖKAS sügis powered by Slept
DESCRIPTION:VÕITJAD: \n\n Meistrite Liiga – Oliver Oper ja Hanno Juust (finaal vs Diimar & Kennart 13:2) \n Tegijate Liiga – Kervin Adamson  ja Kaidi Pintmann (finaal vs Erle & Toomas 7:6) \n Tulijate Liiga A – Liisa Veede ja Kristjan Karro (finaal vs Artur & Keirin 7:4) \n Tulijate Liiga B  – Sigrid Raudsepp & Kristian Neemela (finaal vs Anne & Birgit 11:3) \n\n\nSERVIÄSSAD: \n\n Meistrite Liiga – Ergo Mõttus 7 ässa \n Tegijate Liiga – Kervin Adamson 2 ässa \n Tulijate Liiga A – Kristjan Karro 7 ässa \n Tulijate Liiga B  – Kristian Neemela 5 ässa \n\n \n \n \n \n\n\n    Tähtvere ÖÖKAS powered by Slept on Tartu kõige särtsakam ja meeleolukam paarismänguturniir\, mis toob mängurõõmu neljal korral aastas! Turniiril ei loe klubiline kuuluvus ega mängutase – kõik saavad osa\, sest igaühele leidub sobiv tugevusgrupp. \n\nFormaat: ajatennis. Kõigile garanteeritud 3 × 40 min mänguaega (2 alagrupimängu + 1 kohamäng)\nOsavõtutasu: 45 €\nAuhinnad: turniiri peatoetaja Slept hoolitseb selle eest\, et igal etapil oleks võitjaid ootamas väärt kingitused. \nTugevusgrupid\nMeistrite Liiga – M2+N2 / M2+N3 / M3+M3 / N1+N2Tegijate Liiga – M4+N3 / M3+N3 / N2+N3Tulijate Liiga – M4+M4 / M4+N4 / N3+N4Pro Liiga – M2+M2 / M2+N1 / N1+N1 / M1+N2 / M1+M3 \n    Olgu sul eesmärgiks väljakul maksimum anda või lihtsalt nautida Tähtvere ÖÖKA erilist atmosfääri – see turniir on sinu jaoks!
URL:https://www.tartutennis.ee/sundmus/ookas-sygis/
LOCATION:Tähtvere Tennisekeskus\, Laulupeo puiestee 19\, Tartu
CATEGORIES:Tähtvere Öökas
ATTACH;FMTTYPE=image/jpeg:https://tartutennis.ee/wp-content/uploads/2025/09/Tennisekeskus-1.jpg
END:VEVENT
BEGIN:VEVENT
DTSTART;TZID=Europe/Helsinki:20251011T100000
DTEND;TZID=Europe/Helsinki:20251011T190000
DTSTAMP:20260422T015157
CREATED:20250912T080309Z
LAST-MODIFIED:20250912T131658Z
UID:10001135-1760176800-1760209200@www.tartutennis.ee
SUMMARY:NOORTELIIGA II T E Surfar Cup
DESCRIPTION:Rohkem infot: www.etl.tournamentsoftware.com
URL:https://www.tartutennis.ee/sundmus/noorteliiga-4/
LOCATION:Tähtvere Tennisekeskus\, Laulupeo puiestee 19\, Tartu
ATTACH;FMTTYPE=image/png:https://tartutennis.ee/wp-content/uploads/2025/01/Tennisekeskus-1-1.png
END:VEVENT
BEGIN:VEVENT
DTSTART;TZID=Europe/Helsinki:20250927T100000
DTEND;TZID=Europe/Helsinki:20250927T190000
DTSTAMP:20260422T015157
CREATED:20250912T080207Z
LAST-MODIFIED:20250912T131520Z
UID:10001134-1758967200-1758999600@www.tartutennis.ee
SUMMARY:NOORTELIIGA III E Surfar Cup
DESCRIPTION:Rohkem infot: www.etl.tournamentsoftware.com
URL:https://www.tartutennis.ee/sundmus/noorteliiga-3/
LOCATION:Tähtvere Tennisekeskus\, Laulupeo puiestee 19\, Tartu
ATTACH;FMTTYPE=image/png:https://tartutennis.ee/wp-content/uploads/2025/01/Tennisekeskus-1-1.png
END:VEVENT
BEGIN:VEVENT
DTSTART;TZID=Europe/Helsinki:20250920T100000
DTEND;TZID=Europe/Helsinki:20250920T190000
DTSTAMP:20260422T015157
CREATED:20250912T080116Z
LAST-MODIFIED:20250912T131440Z
UID:10001133-1758362400-1758394800@www.tartutennis.ee
SUMMARY:NOORTELIIGA II E Surfar Cup
DESCRIPTION:Rohkem infot: www.etl.tournamentsoftware.com
URL:https://www.tartutennis.ee/sundmus/noorteliiga-ii/
LOCATION:Tähtvere Tennisekeskus\, Laulupeo puiestee 19\, Tartu
ATTACH;FMTTYPE=image/png:https://tartutennis.ee/wp-content/uploads/2025/01/Tennisekeskus-1-1.png
END:VEVENT
BEGIN:VEVENT
DTSTART;TZID=Europe/Helsinki:20250913T120000
DTEND;TZID=Europe/Helsinki:20250913T190000
DTSTAMP:20260422T015157
CREATED:20250710T082552Z
LAST-MODIFIED:20250910T083355Z
UID:10001108-1757764800-1757790000@www.tartutennis.ee
SUMMARY:Davis Cup Eesti vs Mehhiko
DESCRIPTION:  \nKutsume Tähtvere Tennisekooli noori kaasa elama Davis Cupile! Tule elama kaasa Eesti tennise rahvuskoondisele\, kes kohtub 13. septembril Tallinnas\, Kalevi Spordihallis Mehhiko koondisega Davis Cupi raames. \nEesti eest astuvad platsile meie parimad mängijad\, eesotsas Mark Lajaliga. Kohtumisel on kaalul pääs Maailmaliiga I grupi üleminekumängudele – tõotab tulla tõeliselt pingeline tenniselahing! \nPlaanis on ühine bussisõit Tallinnasse ja pärast kohtumist tagasi Tartusse. Väljasõit toimub Tähtverest\, täpsem info ajakava ja korralduse kohta saadetakse septembrikuu alguses\, kui osalejate arv on selgunud. \nÄra jäta võimalust kasutamata – tule koos meiega toetama Eesti koondist ja saa osa erilisest spordielamusest! \nRegistreerunutele edastatakse täpsem info mineku kohta meilile.
URL:https://www.tartutennis.ee/sundmus/davis-cup-eesti-vs-mehhiko/
LOCATION:Tähtvere Tennisekeskus\, Laulupeo puiestee 19\, Tartu
END:VEVENT
BEGIN:VEVENT
DTSTART;TZID=Europe/Helsinki:20250913T100000
DTEND;TZID=Europe/Helsinki:20250913T190000
DTSTAMP:20260422T015157
CREATED:20250912T080444Z
LAST-MODIFIED:20250912T080444Z
UID:10001136-1757757600-1757790000@www.tartutennis.ee
SUMMARY:SEB Liigatennise IV liiga meeste ja naiste üksikmänguturniir
DESCRIPTION:Liigatennise turniiridel lihvivad oma oskusi lisaks harrastajatele ka Eesti seeniortennisistid ja endised tegevmängijad\, kes on jaotatud vastavalt mängutasemele erinevatesse tasemegruppidesse. See on parim võimalus oma tennisealased oskused proovile panna. \nRohkem infot leiate: www.etl.tournamentsoftware.com ja www.liigatennis.ee
URL:https://www.tartutennis.ee/sundmus/seb-liigatennis-10/
LOCATION:Tähtvere Tennisekeskus\, Laulupeo puiestee 19\, Tartu
ATTACH;FMTTYPE=image/png:https://tartutennis.ee/wp-content/uploads/2025/01/Tennisekeskus-1.png
END:VEVENT
END:VCALENDAR